BEGIN:VCALENDAR
VERSION:2.0
PRODID:-//Mezetulle - ECPv6.15.20//NONSGML v1.0//EN
CALSCALE:GREGORIAN
METHOD:PUBLISH
X-ORIGINAL-URL:https://www.mezetulle.fr
X-WR-CALDESC:Évènements pour Mezetulle
REFRESH-INTERVAL;VALUE=DURATION:PT1H
X-Robots-Tag:noindex
X-PUBLISHED-TTL:PT1H
BEGIN:VTIMEZONE
TZID:Europe/Paris
BEGIN:DAYLIGHT
TZOFFSETFROM:+0100
TZOFFSETTO:+0200
TZNAME:CEST
DTSTART:20190331T010000
END:DAYLIGHT
BEGIN:STANDARD
TZOFFSETFROM:+0200
TZOFFSETTO:+0100
TZNAME:CET
DTSTART:20191027T010000
END:STANDARD
BEGIN:DAYLIGHT
TZOFFSETFROM:+0100
TZOFFSETTO:+0200
TZNAME:CEST
DTSTART:20200329T010000
END:DAYLIGHT
BEGIN:STANDARD
TZOFFSETFROM:+0200
TZOFFSETTO:+0100
TZNAME:CET
DTSTART:20201025T010000
END:STANDARD
BEGIN:DAYLIGHT
TZOFFSETFROM:+0100
TZOFFSETTO:+0200
TZNAME:CEST
DTSTART:20210328T010000
END:DAYLIGHT
BEGIN:STANDARD
TZOFFSETFROM:+0200
TZOFFSETTO:+0100
TZNAME:CET
DTSTART:20211031T010000
END:STANDARD
END:VTIMEZONE
BEGIN:VEVENT
DTSTART;TZID=Europe/Paris:20200131T130000
DTEND;TZID=Europe/Paris:20200131T160000
DTSTAMP:20260424T191058
CREATED:20200120T180950Z
LAST-MODIFIED:20200125T091916Z
UID:8959-1580475600-1580486400@www.mezetulle.fr
SUMMARY:Conférence au séminaire Théâtre Molière Sorbonne
DESCRIPTION:L’esthétique classique et son « naufrage » au XVIIIe siècle : Conférence et séminaire-discussion. \nVENDREDI 31 JANVIER • 13H-14H \nCONFÉRENCE\nL’esthétique classique et son « naufrage » au XVIIIe siècle\nPar Catherine Kintzler\, philosophe \nLes travaux de Catherine Kinztler sur l’opéra français des XVIIe et XVIIIe siècles l’ont amenée à s’interroger sur les grands principes de l’esthétique classique. Elle en propose une définition nouvelle\, fondée sur une conception rationaliste et mécaniste qui est celle de la science de l’époque : cette esthétique\, qui recherche d’abord le plaisir du spectateur\, est une esthétique de la passion\, représentée à travers une fiction\, distanciée et analysée ; c’est aussi une esthétique qui construit méthodiquement un système des genres (genres parlés\, genres lyriques). Cette esthétique devait être remise en question dans la seconde moitié du XVIIIe siècle\, avec la préférence accordée au sentiment sur la raison discursive\, au réel sur le vraisemblable\, à la proximité sur l’éloignement\, en rapport avec un nouveau principe dont la fonction première de l’art est d’exprimer des valeurs morales. \nPARIS – INSPÉ\, 10 rue Molitor / Salle A06 \nProgramme « L’art du comédien au XVIIe siècle ».\nDirecteur : Georges Forestier\nPrononciation et voix : Jean-Noël Laurenti (jean-noel.laurenti@wanadoo.fr)\nPosture et geste : Mickaël Bouffard (mickael.bouffard@hotmail.com)\nChant : Sophie Landy\nDanse : Guillaume Jablonka \n Entrée libre sur inscription à : theatremolieresorbonne@gmail.com
URL:https://www.mezetulle.fr/evenement/conference-au-seminaire-theatre-moliere-sorbonne/
LOCATION:INSPE Molitor\, 10 rue Molitor\, Paris\, 75016
CATEGORIES:Intervention, conférence
END:VEVENT
END:VCALENDAR